BEGIN:VCALENDAR
VERSION:2.0
PRODID:-//FISH Partner Network - ECPv6.6.4.2//NONSGML v1.0//EN
CALSCALE:GREGORIAN
METHOD:PUBLISH
X-ORIGINAL-URL:https://helpnow.fishpartnernetwork.org
X-WR-CALDESC:Events for FISH Partner Network
REFRESH-INTERVAL;VALUE=DURATION:PT1H
X-Robots-Tag:noindex
X-PUBLISHED-TTL:PT1H
BEGIN:VTIMEZONE
TZID:America/Chicago
BEGIN:DAYLIGHT
TZOFFSETFROM:-0600
TZOFFSETTO:-0500
TZNAME:CDT
DTSTART:20180311T080000
END:DAYLIGHT
BEGIN:STANDARD
TZOFFSETFROM:-0500
TZOFFSETTO:-0600
TZNAME:CST
DTSTART:20181104T070000
END:STANDARD
END:VTIMEZONE
BEGIN:VEVENT
DTSTART;TZID=America/Chicago:20181115T080000
DTEND;TZID=America/Chicago:20181115T170000
DTSTAMP:20260419T083534
CREATED:20181031T190430Z
LAST-MODIFIED:20181031T190430Z
UID:10000206-1542268800-1542301200@helpnow.fishpartnernetwork.org
SUMMARY:Best Christmas Ever - Nominations due by November 15!
DESCRIPTION:Roundbank of New Prague and Scott Equipment have partnered with Best Christmas Ever (BCE)to lift up a family who has had a significant hardship this past year to bless. The area that we are seeking nominations from is within a 30 mile radius of New Prague. The nominated family should have children under 18 years old and living in the home. The family has to be nominated. They cannot nominate themselves. Although there a number of families who may have had a period of hardship with minimal support to come alongside them\, we are looking to bless one family that has experienced a significant life changing hardship. \nPlease see the attached links for BCE and the family nomination page. \nhttps://www.bcemovement.org/ \nhttps://www.bcemovement.org/nominate-a-family/ \n 
URL:https://helpnow.fishpartnernetwork.org/event/best-christmas-ever-nominations-due-by-november-15/
LOCATION:Scott Equipment and Roundbank\, New Prague\, MN\, 56071\, United States
CATEGORIES:Community Events
END:VEVENT
END:VCALENDAR