BEGIN:VCALENDAR
VERSION:2.0
PRODID:-//FISH Partner Network - ECPv6.6.4.2//NONSGML v1.0//EN
CALSCALE:GREGORIAN
METHOD:PUBLISH
X-WR-CALNAME:FISH Partner Network
X-ORIGINAL-URL:https://helpnow.fishpartnernetwork.org
X-WR-CALDESC:Events for FISH Partner Network
REFRESH-INTERVAL;VALUE=DURATION:PT1H
X-Robots-Tag:noindex
X-PUBLISHED-TTL:PT1H
BEGIN:VTIMEZONE
TZID:America/Chicago
BEGIN:DAYLIGHT
TZOFFSETFROM:-0600
TZOFFSETTO:-0500
TZNAME:CDT
DTSTART:20190310T080000
END:DAYLIGHT
BEGIN:STANDARD
TZOFFSETFROM:-0500
TZOFFSETTO:-0600
TZNAME:CST
DTSTART:20191103T070000
END:STANDARD
BEGIN:DAYLIGHT
TZOFFSETFROM:-0600
TZOFFSETTO:-0500
TZNAME:CDT
DTSTART:20200308T080000
END:DAYLIGHT
BEGIN:STANDARD
TZOFFSETFROM:-0500
TZOFFSETTO:-0600
TZNAME:CST
DTSTART:20201101T070000
END:STANDARD
END:VTIMEZONE
BEGIN:VEVENT
DTSTART;TZID=America/Chicago:20200305T100000
DTEND;TZID=America/Chicago:20200305T120000
DTSTAMP:20260420T124422
CREATED:20200302T151420Z
LAST-MODIFIED:20200302T151420Z
UID:10000388-1583402400-1583409600@helpnow.fishpartnernetwork.org
SUMMARY:Careerforce Hiring Event
DESCRIPTION:
URL:https://helpnow.fishpartnernetwork.org/event/careerforce-hiring-event-39/
LOCATION:Scott County Workforce Center\, 752 Canterbury Road\, Shakopee\, MN\, 55379\, United States
CATEGORIES:Community Events
ATTACH;FMTTYPE=application/pdf:https://helpnow.fishpartnernetwork.org/wp-content/uploads/2020/03/CareerForce-Hiring-Event-Flyer-03.05.20.pdf
END:VEVENT
BEGIN:VEVENT
DTSTART;TZID=America/Chicago:20200227T100000
DTEND;TZID=America/Chicago:20200227T120000
DTSTAMP:20260420T124422
CREATED:20200221T214012Z
LAST-MODIFIED:20200221T214012Z
UID:10000385-1582797600-1582804800@helpnow.fishpartnernetwork.org
SUMMARY:Careerforce Hiring Event
DESCRIPTION:Check out jobs available in the area this week!
URL:https://helpnow.fishpartnernetwork.org/event/careerforce-hiring-event-38/
LOCATION:Scott County Workforce Center\, 752 Canterbury Road\, Shakopee\, MN\, 55379\, United States
CATEGORIES:Community Events
ATTACH;FMTTYPE=application/pdf:https://helpnow.fishpartnernetwork.org/wp-content/uploads/2020/02/CareerForce-Shakopee-Hiring-Event-02.27.20-1.pdf
END:VEVENT
BEGIN:VEVENT
DTSTART;TZID=America/Chicago:20200220T100000
DTEND;TZID=America/Chicago:20200220T120000
DTSTAMP:20260420T124422
CREATED:20200214T174846Z
LAST-MODIFIED:20200214T174846Z
UID:10000270-1582192800-1582200000@helpnow.fishpartnernetwork.org
SUMMARY:Careerforce Hiring Event
DESCRIPTION:Check out jobs available this week!
URL:https://helpnow.fishpartnernetwork.org/event/careerforce-hiring-event-37/
LOCATION:Scott County Workforce Center\, 752 Canterbury Road\, Shakopee\, MN\, 55379\, United States
CATEGORIES:Community Events
ATTACH;FMTTYPE=application/pdf:https://helpnow.fishpartnernetwork.org/wp-content/uploads/2020/02/CareerForce-Shakopee-Hiring-Event-Flyer-02.20.20-1.pdf
END:VEVENT
BEGIN:VEVENT
DTSTART;TZID=America/Chicago:20200213T100000
DTEND;TZID=America/Chicago:20200213T120000
DTSTAMP:20260420T124422
CREATED:20200207T162720Z
LAST-MODIFIED:20200207T162720Z
UID:10000268-1581588000-1581595200@helpnow.fishpartnernetwork.org
SUMMARY:Careerforce Hiring Event
DESCRIPTION:Check out jobs available in the area this week!
URL:https://helpnow.fishpartnernetwork.org/event/careerforce-hiring-event-36/
LOCATION:Scott County Workforce Center\, 752 Canterbury Road\, Shakopee\, MN\, 55379\, United States
CATEGORIES:Community Events
ATTACH;FMTTYPE=application/pdf:https://helpnow.fishpartnernetwork.org/wp-content/uploads/2020/02/CareerForce-Hiring-Event-Flyer-02.13.2020-1.pdf
END:VEVENT
BEGIN:VEVENT
DTSTART;TZID=America/Chicago:20200206T100000
DTEND;TZID=America/Chicago:20200206T120000
DTSTAMP:20260420T124422
CREATED:20200203T144534Z
LAST-MODIFIED:20200203T144534Z
UID:10000267-1580983200-1580990400@helpnow.fishpartnernetwork.org
SUMMARY:Careerforce Hiring Event
DESCRIPTION:Check out jobs available this week!
URL:https://helpnow.fishpartnernetwork.org/event/careerforce-hiring-event-35/
LOCATION:Scott County Workforce Center\, 752 Canterbury Road\, Shakopee\, MN\, 55379\, United States
CATEGORIES:Community Events
ATTACH;FMTTYPE=application/pdf:https://helpnow.fishpartnernetwork.org/wp-content/uploads/2020/02/CareerForce-Hiring-Event-Flyer-02.06.20-1.pdf
END:VEVENT
BEGIN:VEVENT
DTSTART;TZID=America/Chicago:20200130T100000
DTEND;TZID=America/Chicago:20200130T120000
DTSTAMP:20260420T124422
CREATED:20200127T173740Z
LAST-MODIFIED:20200127T173740Z
UID:10000247-1580378400-1580385600@helpnow.fishpartnernetwork.org
SUMMARY:Careerforce Hiring Event
DESCRIPTION:Check out jobs available this week!  Details are on the flyer.
URL:https://helpnow.fishpartnernetwork.org/event/careerforce-hiring-event-34/
LOCATION:Scott County Workforce Center\, 752 Canterbury Road\, Shakopee\, MN\, 55379\, United States
CATEGORIES:Community Events
ATTACH;FMTTYPE=application/pdf:https://helpnow.fishpartnernetwork.org/wp-content/uploads/2020/01/CareerForce-Hiring-Event-Flyer-01.30.20-1.pdf
END:VEVENT
BEGIN:VEVENT
DTSTART;TZID=America/Chicago:20200123T100000
DTEND;TZID=America/Chicago:20200123T120000
DTSTAMP:20260420T124422
CREATED:20200117T143649Z
LAST-MODIFIED:20200117T143649Z
UID:10000378-1579773600-1579780800@helpnow.fishpartnernetwork.org
SUMMARY:Careerforce Hiring Event
DESCRIPTION:Check out jobs available this week!  Details on the flyer.
URL:https://helpnow.fishpartnernetwork.org/event/careerforce-hiring-event-33/
LOCATION:Scott County Workforce Center\, 752 Canterbury Road\, Shakopee\, MN\, 55379\, United States
CATEGORIES:Community Events
ATTACH;FMTTYPE=application/pdf:https://helpnow.fishpartnernetwork.org/wp-content/uploads/2020/01/CareerForce-Hiring-Event-Flyer-01.23.20-1.pdf
END:VEVENT
BEGIN:VEVENT
DTSTART;TZID=America/Chicago:20200116T100000
DTEND;TZID=America/Chicago:20200116T120000
DTSTAMP:20260420T124422
CREATED:20200110T220847Z
LAST-MODIFIED:20200110T220847Z
UID:10000377-1579168800-1579176000@helpnow.fishpartnernetwork.org
SUMMARY:Careerforce Hiring Event
DESCRIPTION:Check out jobs available in the area this week!
URL:https://helpnow.fishpartnernetwork.org/event/careerforce-hiring-event-32/
LOCATION:Scott County Workforce Center\, 752 Canterbury Road\, Shakopee\, MN\, 55379\, United States
CATEGORIES:Community Events
ATTACH;FMTTYPE=application/pdf:https://helpnow.fishpartnernetwork.org/wp-content/uploads/2020/01/CareerForce-Hiring-Event-Flyer-01.16.20-1.pdf
END:VEVENT
BEGIN:VEVENT
DTSTART;TZID=America/Chicago:20200109T100000
DTEND;TZID=America/Chicago:20200109T120000
DTSTAMP:20260420T124422
CREATED:20200107T151825Z
LAST-MODIFIED:20200107T152340Z
UID:10000376-1578564000-1578571200@helpnow.fishpartnernetwork.org
SUMMARY:Careerforce Hiring Event
DESCRIPTION:Check out jobs available this week!
URL:https://helpnow.fishpartnernetwork.org/event/careerforce-hiring-event-31/
LOCATION:Scott County Workforce Center\, 752 Canterbury Road\, Shakopee\, MN\, 55379\, United States
CATEGORIES:Community Events
ATTACH;FMTTYPE=application/pdf:https://helpnow.fishpartnernetwork.org/wp-content/uploads/2020/01/CareerForce-Hiring-Event-Flyer-01.09.20-3.pdf
END:VEVENT
BEGIN:VEVENT
DTSTART;TZID=America/Chicago:20191212T100000
DTEND;TZID=America/Chicago:20191212T120000
DTSTAMP:20260420T124422
CREATED:20191206T213745Z
LAST-MODIFIED:20191206T213745Z
UID:10000373-1576144800-1576152000@helpnow.fishpartnernetwork.org
SUMMARY:Careerforce Hiring Event
DESCRIPTION:Check out jobs available in the area this week!  Details are on the flyer.
URL:https://helpnow.fishpartnernetwork.org/event/careerforce-hiring-event-30/
LOCATION:Scott County Workforce Center\, 752 Canterbury Road\, Shakopee\, MN\, 55379\, United States
CATEGORIES:Community Events
ATTACH;FMTTYPE=application/pdf:https://helpnow.fishpartnernetwork.org/wp-content/uploads/2019/12/CareerForce-Hiring-Event-Flyer-12.12.19-1.pdf
END:VEVENT
BEGIN:VEVENT
DTSTART;TZID=America/Chicago:20191205T100000
DTEND;TZID=America/Chicago:20191205T120000
DTSTAMP:20260420T124422
CREATED:20191202T165911Z
LAST-MODIFIED:20191202T165911Z
UID:10000371-1575540000-1575547200@helpnow.fishpartnernetwork.org
SUMMARY:Careerforce Hiring Event
DESCRIPTION:Check out jobs available in the area this week!  Details are on the flyer.
URL:https://helpnow.fishpartnernetwork.org/event/careerforce-hiring-event-29/
LOCATION:Scott County Workforce Center\, 752 Canterbury Road\, Shakopee\, MN\, 55379\, United States
CATEGORIES:Community Events
ATTACH;FMTTYPE=application/pdf:https://helpnow.fishpartnernetwork.org/wp-content/uploads/2019/12/CareerForce-Hiring-Event-Flyer-12.2.19.pdf
END:VEVENT
BEGIN:VEVENT
DTSTART;TZID=America/Chicago:20191121T100000
DTEND;TZID=America/Chicago:20191121T120000
DTSTAMP:20260420T124422
CREATED:20191115T221950Z
LAST-MODIFIED:20191115T221950Z
UID:10000369-1574330400-1574337600@helpnow.fishpartnernetwork.org
SUMMARY:Careerforce Hiring Event
DESCRIPTION:Check out jobs available in the area this week!  Details are on the flyer.
URL:https://helpnow.fishpartnernetwork.org/event/careerforce-hiring-event-28/
LOCATION:Scott County Workforce Center\, 752 Canterbury Road\, Shakopee\, MN\, 55379\, United States
CATEGORIES:Community Events
ATTACH;FMTTYPE=application/pdf:https://helpnow.fishpartnernetwork.org/wp-content/uploads/2019/11/CareerForce-Hiring-Event-Flyer-11.21.19-3.pdf
END:VEVENT
BEGIN:VEVENT
DTSTART;TZID=America/Chicago:20191114T100000
DTEND;TZID=America/Chicago:20191114T120000
DTSTAMP:20260420T124422
CREATED:20191108T214126Z
LAST-MODIFIED:20191108T214521Z
UID:10000244-1573725600-1573732800@helpnow.fishpartnernetwork.org
SUMMARY:Careerforce Hiring Event
DESCRIPTION:Check out the available jobs in the area this week!  Details on the flyer.
URL:https://helpnow.fishpartnernetwork.org/event/careerforce-hiring-event-27/
LOCATION:Scott County Workforce Center\, 752 Canterbury Road\, Shakopee\, MN\, 55379\, United States
CATEGORIES:Community Events
ATTACH;FMTTYPE=application/pdf:https://helpnow.fishpartnernetwork.org/wp-content/uploads/2019/11/CareerForce-Hiring-Event-Flyer-11.14.19-2.pdf
END:VEVENT
BEGIN:VEVENT
DTSTART;TZID=America/Chicago:20191107T100000
DTEND;TZID=America/Chicago:20191107T120000
DTSTAMP:20260420T124422
CREATED:20191102T190814Z
LAST-MODIFIED:20191104T152433Z
UID:10000241-1573120800-1573128000@helpnow.fishpartnernetwork.org
SUMMARY:Careerforce Hiring Event
DESCRIPTION:Check out the jobs available in the area this week!  Details on the flyer.
URL:https://helpnow.fishpartnernetwork.org/event/careerforce-hiring-event-26/
LOCATION:Scott County Workforce Center\, 752 Canterbury Road\, Shakopee\, MN\, 55379\, United States
CATEGORIES:Community Events
ATTACH;FMTTYPE=application/pdf:https://helpnow.fishpartnernetwork.org/wp-content/uploads/2019/11/CareerForce-Hiring-Event-Flyer-11.07.19-2.pdf
END:VEVENT
BEGIN:VEVENT
DTSTART;TZID=America/Chicago:20190912T100000
DTEND;TZID=America/Chicago:20190912T120000
DTSTAMP:20260420T124422
CREATED:20190906T211339Z
LAST-MODIFIED:20190906T211339Z
UID:10000363-1568282400-1568289600@helpnow.fishpartnernetwork.org
SUMMARY:Careerforce Hiring Event
DESCRIPTION:Check out the jobs available in the area this week!  Details on the flyer!
URL:https://helpnow.fishpartnernetwork.org/event/careerforce-hiring-event-25/
LOCATION:Scott County Workforce Center\, 752 Canterbury Road\, Shakopee\, MN\, 55379\, United States
CATEGORIES:Community Events
END:VEVENT
BEGIN:VEVENT
DTSTART;TZID=America/Chicago:20190905T100000
DTEND;TZID=America/Chicago:20190905T120000
DTSTAMP:20260420T124422
CREATED:20190830T191242Z
LAST-MODIFIED:20190830T191242Z
UID:10000362-1567677600-1567684800@helpnow.fishpartnernetwork.org
SUMMARY:Careerforce Hiring Event
DESCRIPTION:Check out jobs available in the area this week!  Details on the flyer.
URL:https://helpnow.fishpartnernetwork.org/event/careerforce-hiring-event-24/
LOCATION:Scott County Workforce Center\, 752 Canterbury Road\, Shakopee\, MN\, 55379\, United States
CATEGORIES:Community Events
END:VEVENT
BEGIN:VEVENT
DTSTART;TZID=America/Chicago:20190829T100000
DTEND;TZID=America/Chicago:20190829T120000
DTSTAMP:20260420T124422
CREATED:20190827T132818Z
LAST-MODIFIED:20190827T132818Z
UID:10000361-1567072800-1567080000@helpnow.fishpartnernetwork.org
SUMMARY:Careerforce Hiring Event
DESCRIPTION:Check out jobs available in the area this week!  Details are on the flyer.
URL:https://helpnow.fishpartnernetwork.org/event/careerforce-hiring-event-23/
LOCATION:Scott County Workforce Center\, 752 Canterbury Road\, Shakopee\, MN\, 55379\, United States
CATEGORIES:Community Events
END:VEVENT
BEGIN:VEVENT
DTSTART;TZID=America/Chicago:20190822T100000
DTEND;TZID=America/Chicago:20190822T120000
DTSTAMP:20260420T124422
CREATED:20190819T125004Z
LAST-MODIFIED:20190819T125004Z
UID:10000360-1566468000-1566475200@helpnow.fishpartnernetwork.org
SUMMARY:Careerforce Hiring Event
DESCRIPTION:Check out available local jobs this week!  Details on the flyer.
URL:https://helpnow.fishpartnernetwork.org/event/careerforce-hiring-event-22/
LOCATION:Scott County Workforce Center\, 752 Canterbury Road\, Shakopee\, MN\, 55379\, United States
CATEGORIES:Community Events
END:VEVENT
BEGIN:VEVENT
DTSTART;TZID=America/Chicago:20190815T100000
DTEND;TZID=America/Chicago:20190815T120000
DTSTAMP:20260420T124422
CREATED:20190809T184012Z
LAST-MODIFIED:20190809T184012Z
UID:10000359-1565863200-1565870400@helpnow.fishpartnernetwork.org
SUMMARY:Careerforce Hiring Event
DESCRIPTION:Check out the jobs available in the Scott County area this week!  Details are on the flyer.
URL:https://helpnow.fishpartnernetwork.org/event/careerforce-hiring-event-21/
LOCATION:Scott County Workforce Center\, 752 Canterbury Road\, Shakopee\, MN\, 55379\, United States
CATEGORIES:Community Events
END:VEVENT
BEGIN:VEVENT
DTSTART;TZID=America/Chicago:20190808T100000
DTEND;TZID=America/Chicago:20190808T120000
DTSTAMP:20260420T124422
CREATED:20190805T193342Z
LAST-MODIFIED:20190805T193342Z
UID:10000358-1565258400-1565265600@helpnow.fishpartnernetwork.org
SUMMARY:CareerForce Hiring Event
DESCRIPTION:Check out the jobs available this week!  Details are on the flyer.
URL:https://helpnow.fishpartnernetwork.org/event/careerforce-hiring-event-20/
LOCATION:Scott County Workforce Center\, 752 Canterbury Road\, Shakopee\, MN\, 55379\, United States
CATEGORIES:Community Events
END:VEVENT
BEGIN:VEVENT
DTSTART;TZID=America/Chicago:20190725T100000
DTEND;TZID=America/Chicago:20190725T120000
DTSTAMP:20260420T124422
CREATED:20190718T214153Z
LAST-MODIFIED:20190718T214153Z
UID:10000356-1564048800-1564056000@helpnow.fishpartnernetwork.org
SUMMARY:CareerForce Hiring Event
DESCRIPTION:Check out jobs available in the area!  Details are on the attached flyer.
URL:https://helpnow.fishpartnernetwork.org/event/careerforce-hiring-event-19/
LOCATION:Scott County Workforce Center\, 752 Canterbury Road\, Shakopee\, MN\, 55379\, United States
CATEGORIES:Community Events
END:VEVENT
BEGIN:VEVENT
DTSTART;TZID=America/Chicago:20190718T100000
DTEND;TZID=America/Chicago:20190718T120000
DTSTAMP:20260420T124422
CREATED:20190712T152726Z
LAST-MODIFIED:20190712T152726Z
UID:10000234-1563444000-1563451200@helpnow.fishpartnernetwork.org
SUMMARY:CareerForce Hiring Event
DESCRIPTION:Check out available jobs in the area!  Details on flyer!
URL:https://helpnow.fishpartnernetwork.org/event/careerforce-hiring-event-18/
LOCATION:Scott County Workforce Center\, 752 Canterbury Road\, Shakopee\, MN\, 55379\, United States
CATEGORIES:Community Events
END:VEVENT
BEGIN:VEVENT
DTSTART;TZID=America/Chicago:20190711T100000
DTEND;TZID=America/Chicago:20190711T120000
DTSTAMP:20260420T124422
CREATED:20190703T211327Z
LAST-MODIFIED:20190703T211327Z
UID:10000231-1562839200-1562846400@helpnow.fishpartnernetwork.org
SUMMARY:CareerForce Hiring Event
DESCRIPTION:Check out the jobs available in the area this week!  Details are on the flyer.
URL:https://helpnow.fishpartnernetwork.org/event/careerforce-hiring-event-17/
LOCATION:Scott County Workforce Center\, 752 Canterbury Road\, Shakopee\, MN\, 55379\, United States
CATEGORIES:Community Events
END:VEVENT
BEGIN:VEVENT
DTSTART;TZID=America/Chicago:20190627T100000
DTEND;TZID=America/Chicago:20190627T120000
DTSTAMP:20260420T124422
CREATED:20190625T134921Z
LAST-MODIFIED:20190625T134921Z
UID:10000229-1561629600-1561636800@helpnow.fishpartnernetwork.org
SUMMARY:CareerForce Hiring Event
DESCRIPTION:Check out local jobs available this week!  Details on the flyer!
URL:https://helpnow.fishpartnernetwork.org/event/careerforce-hiring-event-16/
LOCATION:Scott County Workforce Center\, 752 Canterbury Road\, Shakopee\, MN\, 55379\, United States
CATEGORIES:Community Events
END:VEVENT
BEGIN:VEVENT
DTSTART;TZID=America/Chicago:20190620T100000
DTEND;TZID=America/Chicago:20190620T120000
DTSTAMP:20260420T124422
CREATED:20190618T133247Z
LAST-MODIFIED:20190618T133247Z
UID:10000228-1561024800-1561032000@helpnow.fishpartnernetwork.org
SUMMARY:CareerForce Hiring Event
DESCRIPTION:Check out the available jobs in the area this week!  Details on the flyer.
URL:https://helpnow.fishpartnernetwork.org/event/careerforce-hiring-event-15/
LOCATION:Scott County Workforce Center\, 752 Canterbury Road\, Shakopee\, MN\, 55379\, United States
CATEGORIES:Community Events
END:VEVENT
BEGIN:VEVENT
DTSTART;TZID=America/Chicago:20190613T100000
DTEND;TZID=America/Chicago:20190613T120000
DTSTAMP:20260420T124422
CREATED:20190610T144443Z
LAST-MODIFIED:20190610T144443Z
UID:10000227-1560420000-1560427200@helpnow.fishpartnernetwork.org
SUMMARY:Scott County Hiring Event
DESCRIPTION:Check out the area jobs available this week!  Details are on the flyer.
URL:https://helpnow.fishpartnernetwork.org/event/scott-county-hiring-event-15/
LOCATION:Scott County Workforce Center\, 752 Canterbury Road\, Shakopee\, MN\, 55379\, United States
CATEGORIES:Community Events
END:VEVENT
BEGIN:VEVENT
DTSTART;TZID=America/Chicago:20190606T100000
DTEND;TZID=America/Chicago:20190606T120000
DTSTAMP:20260420T124422
CREATED:20190603T122543Z
LAST-MODIFIED:20190603T122543Z
UID:10000226-1559815200-1559822400@helpnow.fishpartnernetwork.org
SUMMARY:CareerForce Hiring Event
DESCRIPTION:Check out area jobs available this week!  Details on the flyer.
URL:https://helpnow.fishpartnernetwork.org/event/careerforce-hiring-event-14/
LOCATION:Scott County Workforce Center\, 752 Canterbury Road\, Shakopee\, MN\, 55379\, United States
CATEGORIES:Community Events
END:VEVENT
BEGIN:VEVENT
DTSTART;TZID=America/Chicago:20190530T100000
DTEND;TZID=America/Chicago:20190530T120000
DTSTAMP:20260420T124422
CREATED:20190524T173640Z
LAST-MODIFIED:20190524T173640Z
UID:10000354-1559210400-1559217600@helpnow.fishpartnernetwork.org
SUMMARY:CareerForce Hiring Event
DESCRIPTION:Check out the jobs available in the area!  Details on the flyer.
URL:https://helpnow.fishpartnernetwork.org/event/careerforce-hiring-event-13/
LOCATION:Scott County Workforce Center\, 752 Canterbury Road\, Shakopee\, MN\, 55379\, United States
CATEGORIES:Community Events
END:VEVENT
BEGIN:VEVENT
DTSTART;TZID=America/Chicago:20190529T130000
DTEND;TZID=America/Chicago:20190529T150000
DTSTAMP:20260420T124422
CREATED:20190501T141512Z
LAST-MODIFIED:20190501T141512Z
UID:10000350-1559134800-1559142000@helpnow.fishpartnernetwork.org
SUMMARY:Allina Health Interview Day
DESCRIPTION:Allina Health will be interviewing for Cooks and Dietary Aides!  See flyer for details.
URL:https://helpnow.fishpartnernetwork.org/event/allina-health-interview-day/
LOCATION:Scott County Workforce Center\, 752 Canterbury Road\, Shakopee\, MN\, 55379\, United States
CATEGORIES:Community Events
END:VEVENT
BEGIN:VEVENT
DTSTART;TZID=America/Chicago:20190523T100000
DTEND;TZID=America/Chicago:20190523T120000
DTSTAMP:20260420T124422
CREATED:20190520T122554Z
LAST-MODIFIED:20190520T122554Z
UID:10000353-1558605600-1558612800@helpnow.fishpartnernetwork.org
SUMMARY:CareerForce Hiring Event
DESCRIPTION:Check out jobs available in the area this week!  Details on the flyer.
URL:https://helpnow.fishpartnernetwork.org/event/careerforce-hiring-event-12/
LOCATION:Scott County Workforce Center\, 752 Canterbury Road\, Shakopee\, MN\, 55379\, United States
CATEGORIES:Community Events
END:VEVENT
END:VCALENDAR